BEGIN:VCALENDAR
VERSION:2.0
PRODID:-//Daniel Island Academy - ECPv6.15.19//NONSGML v1.0//EN
CALSCALE:GREGORIAN
METHOD:PUBLISH
X-ORIGINAL-URL:https://danielislandacademy.com
X-WR-CALDESC:Events for Daniel Island Academy
REFRESH-INTERVAL;VALUE=DURATION:PT1H
X-Robots-Tag:noindex
X-PUBLISHED-TTL:PT1H
BEGIN:VTIMEZONE
TZID:UTC
BEGIN:STANDARD
TZOFFSETFROM:+0000
TZOFFSETTO:+0000
TZNAME:UTC
DTSTART:20220101T000000
END:STANDARD
END:VTIMEZONE
BEGIN:VEVENT
DTSTART;TZID=UTC:20231010T093000
DTEND;TZID=UTC:20231010T113000
DTSTAMP:20260421T130924
CREATED:20230926T135532Z
LAST-MODIFIED:20230926T142455Z
UID:2057-1696930200-1696937400@danielislandacademy.com
SUMMARY:Fire Truck Visit
DESCRIPTION:The fire trucks will be visiting Daniel Island Academy beginning with our 2’s classes at 9:30. Be sure to be here early so your child is able to visit during their class time!
URL:https://danielislandacademy.com/event/fire-truck-visit/
LOCATION:South Carolina
END:VEVENT
END:VCALENDAR