BEGIN:VCALENDAR
VERSION:2.0
PRODID:-//Daniel Island Academy - ECPv6.15.19//NONSGML v1.0//EN
CALSCALE:GREGORIAN
METHOD:PUBLISH
X-WR-CALNAME:Daniel Island Academy
X-ORIGINAL-URL:https://danielislandacademy.com
X-WR-CALDESC:Events for Daniel Island Academy
REFRESH-INTERVAL;VALUE=DURATION:PT1H
X-Robots-Tag:noindex
X-PUBLISHED-TTL:PT1H
BEGIN:VTIMEZONE
TZID:UTC
BEGIN:STANDARD
TZOFFSETFROM:+0000
TZOFFSETTO:+0000
TZNAME:UTC
DTSTART:20220101T000000
END:STANDARD
END:VTIMEZONE
BEGIN:VEVENT
DTSTART;VALUE=DATE:20230726
DTEND;VALUE=DATE:20230727
DTSTAMP:20260422T000329
CREATED:20230912T153626Z
LAST-MODIFIED:20230912T153626Z
UID:1976-1690329600-1690415999@danielislandacademy.com
SUMMARY:LAST DAY: 2023-2024 School Year
DESCRIPTION:Applies to ALL 12-month and Summer of Discovery students.
URL:https://danielislandacademy.com/event/last-day-2023-2024-school-year/
LOCATION:South Carolina
CATEGORIES:Enrollment
END:VEVENT
END:VCALENDAR